BEGIN:VCALENDAR
VERSION:2.0
PRODID:-//wp-events-plugin.com//7.2.3.1//EN
TZID:America/New_York
X-WR-TIMEZONE:America/New_York
BEGIN:VEVENT
UID:782@aysaugusta.org
DTSTART;TZID=America/New_York:20240323T203000
DTEND;TZID=America/New_York:20240323T213000
DTSTAMP:20240316T163548Z
URL:https://aysaugusta.org/events/purim-celebration/
SUMMARY:Purim Celebration
DESCRIPTION:THE 2024 ANNUAL\nPURIM CELEBRATION\n\nSATURDAY NIGHT\, MARCH 23
 rd at 8:30 P.M.\nIN THE MAIN SANCTUARY\nTHIS EVENT IS FREE!\n\nHAVDALAH\, 
 MAARIV\, HAMENTASCHEN\, TZEDAKAH\, COSTUME CONTEST\, CHILDREN'S SHPIEL\n\
 nICE CREAM SUNDAES FOLLOWING\nTHE MEGILLAH READING
CATEGORIES:Community
END:VEVENT
BEGIN:VTIMEZONE
TZID:America/New_York
X-LIC-LOCATION:America/New_York
BEGIN:DAYLIGHT
DTSTART:20240310T030000
TZOFFSETFROM:-0500
TZOFFSETTO:-0400
TZNAME:EDT
END:DAYLIGHT
END:VTIMEZONE
END:VCALENDAR