BEGIN:VCALENDAR
VERSION:2.0
PRODID:-//wp-events-plugin.com//7.2.3.1//EN
TZID:America/New_York
X-WR-TIMEZONE:America/New_York
BEGIN:VEVENT
UID:780@aysaugusta.org
DTSTART;TZID=America/New_York;VALUE=DATE:20240419
DTEND;TZID=America/New_York;VALUE=DATE:20240420
DTSTAMP:20240307T011015Z
URL:https://aysaugusta.org/events/chametz-sale-deadline/
SUMMARY:Chametz Sale Deadline
DESCRIPTION:In preparation for Pesach\, all sale of chametz forms must be s
 ubmitted no later than April 19\, 2024.\n\nChametz sale forms were mailed 
 out in the March/April edition of the Menorah\, but are also available fro
 m the office.
CATEGORIES:Community
END:VEVENT
BEGIN:VTIMEZONE
TZID:America/New_York
X-LIC-LOCATION:America/New_York
BEGIN:DAYLIGHT
DTSTART:20240310T030000
TZOFFSETFROM:-0500
TZOFFSETTO:-0400
TZNAME:EDT
END:DAYLIGHT
END:VTIMEZONE
END:VCALENDAR